BEGIN:VCALENDAR
VERSION:2.0
PRODID:-//North Carolina Chapter 15-2, Combat Veterans Motorcycle Association - ECPv6.15.13.1//NONSGML v1.0//EN
CALSCALE:GREGORIAN
METHOD:PUBLISH
X-WR-CALNAME:North Carolina Chapter 15-2, Combat Veterans Motorcycle Association
X-ORIGINAL-URL:https://www.cvma152.org
X-WR-CALDESC:Events for North Carolina Chapter 15-2, Combat Veterans Motorcycle Association
REFRESH-INTERVAL;VALUE=DURATION:PT1H
X-Robots-Tag:noindex
X-PUBLISHED-TTL:PT1H
BEGIN:VTIMEZONE
TZID:America/New_York
BEGIN:DAYLIGHT
TZOFFSETFROM:-0500
TZOFFSETTO:-0400
TZNAME:EDT
DTSTART:20230312T070000
END:DAYLIGHT
BEGIN:STANDARD
TZOFFSETFROM:-0400
TZOFFSETTO:-0500
TZNAME:EST
DTSTART:20231105T060000
END:STANDARD
BEGIN:DAYLIGHT
TZOFFSETFROM:-0500
TZOFFSETTO:-0400
TZNAME:EDT
DTSTART:20240310T070000
END:DAYLIGHT
BEGIN:STANDARD
TZOFFSETFROM:-0400
TZOFFSETTO:-0500
TZNAME:EST
DTSTART:20241103T060000
END:STANDARD
BEGIN:DAYLIGHT
TZOFFSETFROM:-0500
TZOFFSETTO:-0400
TZNAME:EDT
DTSTART:20250309T070000
END:DAYLIGHT
BEGIN:STANDARD
TZOFFSETFROM:-0400
TZOFFSETTO:-0500
TZNAME:EST
DTSTART:20251102T060000
END:STANDARD
END:VTIMEZONE
BEGIN:VEVENT
DTSTART;TZID=America/New_York:20240815T180000
DTEND;TZID=America/New_York:20240815T210000
DTSTAMP:20260423T162449
CREATED:20240725T034550Z
LAST-MODIFIED:20240725T044022Z
UID:1270-1723744800-1723755600@www.cvma152.org
SUMMARY:Blue Collar Bike Night
DESCRIPTION:Join us at Blue Collar bike night. CVMA 15-2 will be there selling burgers and dogs.
URL:https://www.cvma152.org/event/blue-collar-bike-night
LOCATION:Blue Collar Cycle Company\, 1017 Old West Innes Street\, Salisbury\, 28144\, United States
CATEGORIES:Bike Night
ORGANIZER;CN="CVMA Chapter 15-2":MAILTO:info@cvma152.org
END:VEVENT
END:VCALENDAR